BEGIN:VCALENDAR
VERSION:2.0
PRODID:-//Chamber of Commerce//Calendar//EN
METHOD:PUBLISH
BEGIN:VEVENT
UID:CHAMBERCAL-168756-85104-0
DTSTART:20260421t110000
DTEND:20260421t200000
SEQUENCE:0
STATUS:CONFIRMED
SUMMARY:Sharks Burger x Lioness Books Benefit
LOCATION:Sharks Burger 15609 Ronald Reagan Blvd\, Leander TX 78641
DESCRIPTION:Mention Lioness Books&nbsp\;when ordering at Sharks Burger (the Ronald Reagan location only) on Tuesday\, April 21&nbsp\;and&nbsp\;20% of the profits&nbsp\;go toward helping Lioness Books\, a local independent bookstore\, rebuild after a fire destroyed their storage building.
Admission and pricing DetailsN/A
CLASS:PUBLIC
TRANSP:OPAQUE
END:VEVENT
END:VCALENDAR