BEGIN:VCALENDAR
VERSION:2.0
PRODID:-//Chamber of Commerce//Calendar//EN
METHOD:PUBLISH
BEGIN:VEVENT
UID:CHAMBERCAL-168757-85105-0
DTSTART:20260421t090000
DTEND:20260421t090000
SEQUENCE:0
STATUS:CONFIRMED
SUMMARY:Sharks Burger Lioness Books Benefit
LOCATION:Sharks Burger 15609 Ronald W Reagan Blvd.\,
DESCRIPTION:
CLASS:PUBLIC
TRANSP:OPAQUE
END:VEVENT
END:VCALENDAR