BEGIN:VCALENDAR
VERSION:2.0
PRODID:-//Chamber of Commerce//Calendar//EN
METHOD:PUBLISH
BEGIN:VEVENT
UID:CHAMBERCAL-168765-85113-0
DTSTART:20260422t153000
DTEND:20260422t153000
SEQUENCE:0
STATUS:CONFIRMED
SUMMARY:Ribbon Cutting\; Home Depot
LOCATION:Home Depot 9541 183A Toll Rd\, Leander TX 78641
DESCRIPTION:
Ribbon cutting will be at 3\;30 and plan to cut at 3\;45. Community Night and Opening Ceremony will take place after.The event will begin with a flag-raising ceremony at 4\;30 P
CLASS:PUBLIC
TRANSP:OPAQUE
END:VEVENT
END:VCALENDAR