BEGIN:VCALENDAR
VERSION:2.0
PRODID:-//Chamber of Commerce//Calendar//EN
METHOD:PUBLISH
BEGIN:VEVENT
UID:CHAMBERCAL-168768-85116-0
DTSTART:20260422t130000
DTEND:20260422t160000
SEQUENCE:0
STATUS:CONFIRMED
SUMMARY:Preserving The Harvest
LOCATION:AgriLife Extension Demo Kitchen 100 Wilco Way Ste. Ag 205\, Georgetown TX
DESCRIPTION:Join us for our Preserving the Harvest Series. We have a brand-new Freeze Dryer and we are having a blast learning about this popular food preservation technique. We have freeze dried healthy snacks as well as a sometimes snack "Astronaut ice cream"! We are also expanding our fermenting class to include a gut heathy Kimchi. A preserving series would not be complete without jams. You will water bath can your own strawberry jam to take home and share. More information and registration on our website\;&nbsp\;Williamson.agrilife.org
&nbsp\;

CLASS:PUBLIC
TRANSP:OPAQUE
END:VEVENT
END:VCALENDAR